Package: SeqGSEA Version: 1.40.0 Command: chmod a+r SeqGSEA -R && F:\biocbuild\bbs-3.17-bioc\R\bin\R.exe CMD build --keep-empty-dirs --no-resave-data SeqGSEA StartedAt: 2023-10-15 22:19:39 -0400 (Sun, 15 Oct 2023) EndedAt: 2023-10-15 22:22:45 -0400 (Sun, 15 Oct 2023) EllapsedTime: 185.5 seconds RetCode: 0 Status: OK PackageFile: SeqGSEA_1.40.0.tar.gz PackageFileSize: 1.118 MiB