Package: SeqGSEA Version: 1.40.0 Command: /Library/Frameworks/R.framework/Resources/bin/R CMD check --install=check:SeqGSEA.install-out.txt --library=/Library/Frameworks/R.framework/Resources/library --no-vignettes --timings SeqGSEA_1.40.0.tar.gz StartedAt: 2023-10-16 07:00:43 -0400 (Mon, 16 Oct 2023) EndedAt: 2023-10-16 07:14:31 -0400 (Mon, 16 Oct 2023) EllapsedTime: 827.5 seconds RetCode: 0 Status: OK CheckDir: SeqGSEA.Rcheck Warnings: 0