Package: SeqGSEA Version: 1.40.0 Command: /Library/Frameworks/R.framework/Resources/bin/R CMD build --keep-empty-dirs --no-resave-data SeqGSEA StartedAt: 2023-10-15 21:15:47 -0400 (Sun, 15 Oct 2023) EndedAt: 2023-10-15 21:23:29 -0400 (Sun, 15 Oct 2023) EllapsedTime: 462.5 seconds RetCode: 0 Status: OK PackageFile: SeqGSEA_1.40.0.tar.gz PackageFileSize: 1.691 MiB