Package: SeqArray Version: 1.40.1 Command: F:\biocbuild\bbs-3.17-bioc\R\bin\R.exe CMD INSTALL SeqArray StartedAt: 2023-10-15 15:55:42 -0400 (Sun, 15 Oct 2023) EndedAt: 2023-10-15 15:56:39 -0400 (Sun, 15 Oct 2023) EllapsedTime: 57.5 seconds RetCode: 0 Status: OK