Package: SeqArray Version: 1.40.1 Command: F:\biocbuild\bbs-3.17-bioc\R\bin\R.exe CMD check --no-multiarch --install=check:SeqArray.install-out.txt --library=F:\biocbuild\bbs-3.17-bioc\R\library --no-vignettes --timings SeqArray_1.40.1.tar.gz StartedAt: 2023-10-16 06:44:28 -0400 (Mon, 16 Oct 2023) EndedAt: 2023-10-16 06:46:58 -0400 (Mon, 16 Oct 2023) EllapsedTime: 149.8 seconds RetCode: 0 Status: OK CheckDir: SeqArray.Rcheck Warnings: 0