Package: SeqArray Version: 1.40.1 Command: chmod a+r SeqArray -R && F:\biocbuild\bbs-3.17-bioc\R\bin\R.exe CMD build --keep-empty-dirs --no-resave-data SeqArray StartedAt: 2023-10-15 22:18:02 -0400 (Sun, 15 Oct 2023) EndedAt: 2023-10-15 22:22:18 -0400 (Sun, 15 Oct 2023) EllapsedTime: 256.6 seconds RetCode: 0 Status: OK PackageFile: SeqArray_1.40.1.tar.gz PackageFileSize: 2.959 MiB