Package: SeqArray Version: 1.40.1 Command: rm -rf SeqArray.buildbin-libdir && mkdir SeqArray.buildbin-libdir && F:\biocbuild\bbs-3.17-bioc\R\bin\R.exe CMD INSTALL --build --library=SeqArray.buildbin-libdir SeqArray_1.40.1.tar.gz StartedAt: 2023-10-16 09:31:23 -0400 (Mon, 16 Oct 2023) EndedAt: 2023-10-16 09:32:19 -0400 (Mon, 16 Oct 2023) EllapsedTime: 56.3 seconds RetCode: 0 Status: OK PackageFile: SeqArray_1.40.1.zip PackageFileSize: 3.465 MiB