Package: SeqArray Version: 1.40.1 Command: /home/biocbuild/bbs-3.17-bioc/R/bin/R CMD INSTALL SeqArray StartedAt: 2023-10-15 15:11:08 -0400 (Sun, 15 Oct 2023) EndedAt: 2023-10-15 15:11:46 -0400 (Sun, 15 Oct 2023) EllapsedTime: 38.3 seconds RetCode: 0 Status: OK