Package: SeqArray Version: 1.40.1 Command: /Library/Frameworks/R.framework/Resources/bin/R CMD INSTALL SeqArray StartedAt: 2023-10-15 15:11:52 -0400 (Sun, 15 Oct 2023) EndedAt: 2023-10-15 15:14:05 -0400 (Sun, 15 Oct 2023) EllapsedTime: 132.9 seconds RetCode: 0 Status: OK