Package: SeqArray Version: 1.40.1 Command: rm -rf SeqArray.buildbin-libdir && mkdir SeqArray.buildbin-libdir && /Users/biocbuild/BBS/utils/build-universal.sh SeqArray_1.40.1.tar.gz /Library/Frameworks/R.framework/Resources/bin/R SeqArray.buildbin-libdir StartedAt: 2023-10-16 10:12:25 -0400 (Mon, 16 Oct 2023) EndedAt: 2023-10-16 10:14:49 -0400 (Mon, 16 Oct 2023) EllapsedTime: 143.8 seconds RetCode: 0 Status: OK PackageFile: SeqArray_1.40.1.tgz PackageFileSize: 3.889 MiB