Package: Sconify Version: 1.20.0 Command: F:\biocbuild\bbs-3.17-bioc\R\bin\R.exe CMD check --no-multiarch --install=check:Sconify.install-out.txt --library=F:\biocbuild\bbs-3.17-bioc\R\library --no-vignettes --timings Sconify_1.20.0.tar.gz StartedAt: 2023-10-16 06:33:29 -0400 (Mon, 16 Oct 2023) EndedAt: 2023-10-16 06:35:15 -0400 (Mon, 16 Oct 2023) EllapsedTime: 106.0 seconds RetCode: 0 Status: OK CheckDir: Sconify.Rcheck Warnings: 0