Package: Sconify Version: 1.20.0 Command: rm -rf Sconify.buildbin-libdir && mkdir Sconify.buildbin-libdir && F:\biocbuild\bbs-3.17-bioc\R\bin\R.exe CMD INSTALL --build --library=Sconify.buildbin-libdir Sconify_1.20.0.tar.gz StartedAt: 2023-10-16 09:29:40 -0400 (Mon, 16 Oct 2023) EndedAt: 2023-10-16 09:29:54 -0400 (Mon, 16 Oct 2023) EllapsedTime: 14.1 seconds RetCode: 0 Status: OK PackageFile: Sconify_1.20.0.zip PackageFileSize: 3.11 MiB