Package: Sconify Version: 1.20.0 Command: /home/biocbuild/bbs-3.17-bioc/R/bin/R CMD INSTALL Sconify StartedAt: 2023-10-15 15:15:23 -0400 (Sun, 15 Oct 2023) EndedAt: 2023-10-15 15:15:36 -0400 (Sun, 15 Oct 2023) EllapsedTime: 13.0 seconds RetCode: 0 Status: OK