Package: Sconify Version: 1.20.0 Command: /home/biocbuild/bbs-3.17-bioc/R/bin/R CMD build --keep-empty-dirs --no-resave-data Sconify StartedAt: 2023-10-15 18:26:09 -0400 (Sun, 15 Oct 2023) EndedAt: 2023-10-15 18:26:39 -0400 (Sun, 15 Oct 2023) EllapsedTime: 30.3 seconds RetCode: 0 Status: OK PackageFile: Sconify_1.20.0.tar.gz PackageFileSize: 4.749 MiB