Package: Sconify Version: 1.20.0 Command: /Library/Frameworks/R.framework/Resources/bin/R CMD INSTALL Sconify StartedAt: 2023-10-15 15:31:26 -0400 (Sun, 15 Oct 2023) EndedAt: 2023-10-15 15:32:00 -0400 (Sun, 15 Oct 2023) EllapsedTime: 34.3 seconds RetCode: 0 Status: OK