Package: Sconify Version: 1.20.0 Command: rm -rf Sconify.buildbin-libdir && mkdir Sconify.buildbin-libdir && /Users/biocbuild/BBS/utils/build-universal.sh Sconify_1.20.0.tar.gz /Library/Frameworks/R.framework/Resources/bin/R Sconify.buildbin-libdir StartedAt: 2023-10-16 10:10:21 -0400 (Mon, 16 Oct 2023) EndedAt: 2023-10-16 10:10:57 -0400 (Mon, 16 Oct 2023) EllapsedTime: 36.1 seconds RetCode: 0 Status: OK PackageFile: Sconify_1.20.0.tgz PackageFileSize: 3.492 MiB