Package: ScaledMatrix Version: 1.8.1 Command: rm -rf ScaledMatrix.buildbin-libdir && mkdir ScaledMatrix.buildbin-libdir && F:\biocbuild\bbs-3.17-bioc\R\bin\R.exe CMD INSTALL --build --library=ScaledMatrix.buildbin-libdir ScaledMatrix_1.8.1.tar.gz StartedAt: 2023-10-16 09:28:11 -0400 (Mon, 16 Oct 2023) EndedAt: 2023-10-16 09:28:32 -0400 (Mon, 16 Oct 2023) EllapsedTime: 20.5 seconds RetCode: 0 Status: OK PackageFile: ScaledMatrix_1.8.1.zip PackageFileSize: 589.1 KiB