Package: ScaledMatrix Version: 1.8.1 Command: /home/biocbuild/bbs-3.17-bioc/R/bin/R CMD check --install=check:ScaledMatrix.install-out.txt --library=/home/biocbuild/bbs-3.17-bioc/R/site-library --timings ScaledMatrix_1.8.1.tar.gz StartedAt: 2023-10-16 00:44:37 -0400 (Mon, 16 Oct 2023) EndedAt: 2023-10-16 00:49:06 -0400 (Mon, 16 Oct 2023) EllapsedTime: 268.7 seconds RetCode: 0 Status: OK CheckDir: ScaledMatrix.Rcheck Warnings: 0