Package: ScaledMatrix Version: 1.8.1 Command: /Library/Frameworks/R.framework/Resources/bin/R CMD check --install=check:ScaledMatrix.install-out.txt --library=/Library/Frameworks/R.framework/Resources/library --no-vignettes --timings ScaledMatrix_1.8.1.tar.gz StartedAt: 2023-10-16 06:35:03 -0400 (Mon, 16 Oct 2023) EndedAt: 2023-10-16 06:41:14 -0400 (Mon, 16 Oct 2023) EllapsedTime: 371.4 seconds RetCode: 0 Status: OK CheckDir: ScaledMatrix.Rcheck Warnings: 0