Package: Scale4C Version: 1.22.0 Command: /home/biocbuild/bbs-3.17-bioc/R/bin/R CMD check --install=check:Scale4C.install-out.txt --library=/home/biocbuild/bbs-3.17-bioc/R/site-library --timings Scale4C_1.22.0.tar.gz StartedAt: 2023-10-16 00:44:10 -0400 (Mon, 16 Oct 2023) EndedAt: 2023-10-16 00:49:00 -0400 (Mon, 16 Oct 2023) EllapsedTime: 290.3 seconds RetCode: 0 Status: OK CheckDir: Scale4C.Rcheck Warnings: 0