Package: Scale4C Version: 1.22.0 Command: rm -rf Scale4C.buildbin-libdir && mkdir Scale4C.buildbin-libdir && /Users/biocbuild/BBS/utils/build-universal.sh Scale4C_1.22.0.tar.gz /Library/Frameworks/R.framework/Resources/bin/R Scale4C.buildbin-libdir StartedAt: 2023-10-16 10:08:35 -0400 (Mon, 16 Oct 2023) EndedAt: 2023-10-16 10:10:09 -0400 (Mon, 16 Oct 2023) EllapsedTime: 94.7 seconds RetCode: 0 Status: OK PackageFile: Scale4C_1.22.0.tgz PackageFileSize: 2.14 MiB