Package: SamSPECTRAL Version: 1.54.0 Command: /home/biocbuild/bbs-3.17-bioc/R/bin/R CMD build --keep-empty-dirs --no-resave-data SamSPECTRAL StartedAt: 2023-10-15 18:20:28 -0400 (Sun, 15 Oct 2023) EndedAt: 2023-10-15 18:21:23 -0400 (Sun, 15 Oct 2023) EllapsedTime: 54.7 seconds RetCode: 0 Status: OK PackageFile: SamSPECTRAL_1.54.0.tar.gz PackageFileSize: 829.6 KiB