Package: SWATH2stats Version: 1.30.1 Command: F:\biocbuild\bbs-3.17-bioc\R\bin\R.exe CMD INSTALL SWATH2stats StartedAt: 2023-10-15 16:17:26 -0400 (Sun, 15 Oct 2023) EndedAt: 2023-10-15 16:17:53 -0400 (Sun, 15 Oct 2023) EllapsedTime: 26.7 seconds RetCode: 0 Status: OK