Package: SWATH2stats Version: 1.30.1 Command: chmod a+r SWATH2stats -R && F:\biocbuild\bbs-3.17-bioc\R\bin\R.exe CMD build --keep-empty-dirs --no-resave-data SWATH2stats StartedAt: 2023-10-15 22:45:21 -0400 (Sun, 15 Oct 2023) EndedAt: 2023-10-15 22:46:20 -0400 (Sun, 15 Oct 2023) EllapsedTime: 59.1 seconds RetCode: 0 Status: OK PackageFile: SWATH2stats_1.30.1.tar.gz PackageFileSize: 2.924 MiB