Package: SWATH2stats Version: 1.30.1 Command: /home/biocbuild/bbs-3.17-bioc/R/bin/R CMD INSTALL SWATH2stats StartedAt: 2023-10-15 15:20:49 -0400 (Sun, 15 Oct 2023) EndedAt: 2023-10-15 15:21:08 -0400 (Sun, 15 Oct 2023) EllapsedTime: 19.0 seconds RetCode: 0 Status: OK