Package: SWATH2stats Version: 1.30.1 Command: /home/biocbuild/bbs-3.17-bioc/R/bin/R CMD check --install=check:SWATH2stats.install-out.txt --library=/home/biocbuild/bbs-3.17-bioc/R/site-library --timings SWATH2stats_1.30.1.tar.gz StartedAt: 2023-10-16 01:36:20 -0400 (Mon, 16 Oct 2023) EndedAt: 2023-10-16 01:40:13 -0400 (Mon, 16 Oct 2023) EllapsedTime: 233.6 seconds RetCode: 0 Status: OK CheckDir: SWATH2stats.Rcheck Warnings: 0