Package: SWATH2stats Version: 1.30.1 Command: /home/biocbuild/bbs-3.17-bioc/R/bin/R CMD build --keep-empty-dirs --no-resave-data SWATH2stats StartedAt: 2023-10-15 18:45:05 -0400 (Sun, 15 Oct 2023) EndedAt: 2023-10-15 18:45:48 -0400 (Sun, 15 Oct 2023) EllapsedTime: 43.1 seconds RetCode: 0 Status: OK PackageFile: SWATH2stats_1.30.1.tar.gz PackageFileSize: 2.922 MiB