Package: SWATH2stats Version: 1.30.1 Command: /Library/Frameworks/R.framework/Resources/bin/R CMD check --install=check:SWATH2stats.install-out.txt --library=/Library/Frameworks/R.framework/Resources/library --no-vignettes --timings SWATH2stats_1.30.1.tar.gz StartedAt: 2023-10-16 07:50:00 -0400 (Mon, 16 Oct 2023) EndedAt: 2023-10-16 07:57:44 -0400 (Mon, 16 Oct 2023) EllapsedTime: 463.4 seconds RetCode: 0 Status: OK CheckDir: SWATH2stats.Rcheck Warnings: 0