Package: SUITOR Version: 1.2.0 Command: chmod a+r SUITOR -R && F:\biocbuild\bbs-3.17-bioc\R\bin\R.exe CMD build --keep-empty-dirs --no-resave-data SUITOR StartedAt: 2023-10-15 22:43:55 -0400 (Sun, 15 Oct 2023) EndedAt: 2023-10-15 22:45:02 -0400 (Sun, 15 Oct 2023) EllapsedTime: 66.6 seconds RetCode: 0 Status: OK PackageFile: SUITOR_1.2.0.tar.gz PackageFileSize: 252.5 KiB