Package: STROMA4 Version: 1.24.0 Command: /Library/Frameworks/R.framework/Resources/bin/R CMD INSTALL STROMA4 StartedAt: 2023-10-15 15:20:27 -0400 (Sun, 15 Oct 2023) EndedAt: 2023-10-15 15:20:38 -0400 (Sun, 15 Oct 2023) EllapsedTime: 11.8 seconds RetCode: 0 Status: OK