Package: STROMA4 Version: 1.24.0 Command: /Library/Frameworks/R.framework/Resources/bin/R CMD check --install=check:STROMA4.install-out.txt --library=/Library/Frameworks/R.framework/Resources/library --no-vignettes --timings STROMA4_1.24.0.tar.gz StartedAt: 2023-10-16 07:45:24 -0400 (Mon, 16 Oct 2023) EndedAt: 2023-10-16 07:48:07 -0400 (Mon, 16 Oct 2023) EllapsedTime: 162.5 seconds RetCode: 0 Status: OK CheckDir: STROMA4.Rcheck Warnings: 0