Package: STATegRa Version: 1.36.0 Command: rm -rf STATegRa.buildbin-libdir && mkdir STATegRa.buildbin-libdir && F:\biocbuild\bbs-3.17-bioc\R\bin\R.exe CMD INSTALL --build --library=STATegRa.buildbin-libdir STATegRa_1.36.0.tar.gz StartedAt: 2023-10-16 09:36:45 -0400 (Mon, 16 Oct 2023) EndedAt: 2023-10-16 09:37:11 -0400 (Mon, 16 Oct 2023) EllapsedTime: 26.3 seconds RetCode: 0 Status: OK PackageFile: STATegRa_1.36.0.zip PackageFileSize: 3.864 MiB