Package: STATegRa Version: 1.36.0 Command: /Library/Frameworks/R.framework/Resources/bin/R CMD INSTALL STATegRa StartedAt: 2023-10-15 15:15:42 -0400 (Sun, 15 Oct 2023) EndedAt: 2023-10-15 15:16:27 -0400 (Sun, 15 Oct 2023) EllapsedTime: 44.2 seconds RetCode: 0 Status: OK