Package: STATegRa Version: 1.36.0 Command: rm -rf STATegRa.buildbin-libdir && mkdir STATegRa.buildbin-libdir && /Users/biocbuild/BBS/utils/build-universal.sh STATegRa_1.36.0.tar.gz /Library/Frameworks/R.framework/Resources/bin/R STATegRa.buildbin-libdir StartedAt: 2023-10-16 10:18:28 -0400 (Mon, 16 Oct 2023) EndedAt: 2023-10-16 10:19:16 -0400 (Mon, 16 Oct 2023) EllapsedTime: 47.8 seconds RetCode: 0 Status: OK PackageFile: STATegRa_1.36.0.tgz PackageFileSize: 4.584 MiB