git_url: https://git.bioconductor.org/packages/STATegRa git_branch: RELEASE_3_17 git_last_commit: c2da16d git_last_commit_date: 2023-04-25 10:35:45 -0400 (Tue, 25 Apr 2023) Package: STATegRa Version: 1.36.0 Maintainer: David Gomez-Cabrero , NĂºria Planell MaintainerEmail: nuria.planell.picola at navarra.es