Package: SRAdb Version: 1.62.0 Command: rm -rf SRAdb.buildbin-libdir && mkdir SRAdb.buildbin-libdir && /Users/biocbuild/BBS/utils/build-universal.sh SRAdb_1.62.0.tar.gz /Library/Frameworks/R.framework/Resources/bin/R SRAdb.buildbin-libdir StartedAt: 2023-10-16 10:18:00 -0400 (Mon, 16 Oct 2023) EndedAt: 2023-10-16 10:18:28 -0400 (Mon, 16 Oct 2023) EllapsedTime: 28.5 seconds RetCode: 0 Status: OK PackageFile: SRAdb_1.62.0.tgz PackageFileSize: 845.8 KiB