Package: SQLDataFrame Version: 1.14.0 Command: F:\biocbuild\bbs-3.17-bioc\R\bin\R.exe CMD check --no-multiarch --install=check:SQLDataFrame.install-out.txt --library=F:\biocbuild\bbs-3.17-bioc\R\library --no-vignettes --timings SQLDataFrame_1.14.0.tar.gz StartedAt: 2023-10-16 07:16:47 -0400 (Mon, 16 Oct 2023) EndedAt: 2023-10-16 07:18:30 -0400 (Mon, 16 Oct 2023) EllapsedTime: 103.3 seconds RetCode: 0 Status: WARNINGS CheckDir: SQLDataFrame.Rcheck Warnings: 2