Package: SQLDataFrame Version: 1.14.0 Command: chmod a+r SQLDataFrame -R && F:\biocbuild\bbs-3.17-bioc\R\bin\R.exe CMD build --keep-empty-dirs --no-resave-data SQLDataFrame StartedAt: 2023-10-15 22:38:58 -0400 (Sun, 15 Oct 2023) EndedAt: 2023-10-15 22:39:36 -0400 (Sun, 15 Oct 2023) EllapsedTime: 38.0 seconds RetCode: 0 Status: OK PackageFile: SQLDataFrame_1.14.0.tar.gz PackageFileSize: 634.1 KiB