Package: SQLDataFrame Version: 1.14.0 Command: rm -rf SQLDataFrame.buildbin-libdir && mkdir SQLDataFrame.buildbin-libdir && F:\biocbuild\bbs-3.17-bioc\R\bin\R.exe CMD INSTALL --build --library=SQLDataFrame.buildbin-libdir SQLDataFrame_1.14.0.tar.gz StartedAt: 2023-10-16 09:36:09 -0400 (Mon, 16 Oct 2023) EndedAt: 2023-10-16 09:36:25 -0400 (Mon, 16 Oct 2023) EllapsedTime: 16.3 seconds RetCode: 0 Status: OK PackageFile: SQLDataFrame_1.14.0.zip PackageFileSize: 939 KiB