Package: SQLDataFrame Version: 1.14.0 Command: rm -rf SQLDataFrame.buildbin-libdir && mkdir SQLDataFrame.buildbin-libdir && /Users/biocbuild/BBS/utils/build-universal.sh SQLDataFrame_1.14.0.tar.gz /Library/Frameworks/R.framework/Resources/bin/R SQLDataFrame.buildbin-libdir StartedAt: 2023-10-16 10:17:56 -0400 (Mon, 16 Oct 2023) EndedAt: 2023-10-16 10:18:33 -0400 (Mon, 16 Oct 2023) EllapsedTime: 37.1 seconds RetCode: 0 Status: OK PackageFile: SQLDataFrame_1.14.0.tgz PackageFileSize: 931.6 KiB