Package: SPsimSeq Version: 1.10.0 Command: F:\biocbuild\bbs-3.17-bioc\R\bin\R.exe CMD INSTALL SPsimSeq StartedAt: 2023-10-15 16:44:35 -0400 (Sun, 15 Oct 2023) EndedAt: 2023-10-15 16:45:17 -0400 (Sun, 15 Oct 2023) EllapsedTime: 42.3 seconds RetCode: 0 Status: OK