Package: SPsimSeq Version: 1.10.0 Command: chmod a+r SPsimSeq -R && F:\biocbuild\bbs-3.17-bioc\R\bin\R.exe CMD build --keep-empty-dirs --no-resave-data SPsimSeq StartedAt: 2023-10-15 22:38:56 -0400 (Sun, 15 Oct 2023) EndedAt: 2023-10-15 22:42:48 -0400 (Sun, 15 Oct 2023) EllapsedTime: 231.7 seconds RetCode: 0 Status: OK PackageFile: SPsimSeq_1.10.0.tar.gz PackageFileSize: 578.4 KiB