Package: SPsimSeq Version: 1.10.0 Command: rm -rf SPsimSeq.buildbin-libdir && mkdir SPsimSeq.buildbin-libdir && F:\biocbuild\bbs-3.17-bioc\R\bin\R.exe CMD INSTALL --build --library=SPsimSeq.buildbin-libdir SPsimSeq_1.10.0.tar.gz StartedAt: 2023-10-16 09:36:07 -0400 (Mon, 16 Oct 2023) EndedAt: 2023-10-16 09:36:50 -0400 (Mon, 16 Oct 2023) EllapsedTime: 42.5 seconds RetCode: 0 Status: OK PackageFile: SPsimSeq_1.10.0.zip PackageFileSize: 759.1 KiB