Package: SPsimSeq Version: 1.10.0 Command: /home/biocbuild/bbs-3.17-bioc/R/bin/R CMD check --install=check:SPsimSeq.install-out.txt --library=/home/biocbuild/bbs-3.17-bioc/R/site-library --timings SPsimSeq_1.10.0.tar.gz StartedAt: 2023-10-16 01:26:04 -0400 (Mon, 16 Oct 2023) EndedAt: 2023-10-16 01:35:29 -0400 (Mon, 16 Oct 2023) EllapsedTime: 564.9 seconds RetCode: 0 Status: OK CheckDir: SPsimSeq.Rcheck Warnings: 0