Package: SPsimSeq Version: 1.10.0 Command: /home/biocbuild/bbs-3.17-bioc/R/bin/R CMD build --keep-empty-dirs --no-resave-data SPsimSeq StartedAt: 2023-10-15 18:40:43 -0400 (Sun, 15 Oct 2023) EndedAt: 2023-10-15 18:44:35 -0400 (Sun, 15 Oct 2023) EllapsedTime: 232.8 seconds RetCode: 0 Status: OK PackageFile: SPsimSeq_1.10.0.tar.gz PackageFileSize: 722.5 KiB