Package: SPOTlight Version: 1.4.1 Command: F:\biocbuild\bbs-3.17-bioc\R\bin\R.exe CMD INSTALL SPOTlight StartedAt: 2023-10-15 16:16:44 -0400 (Sun, 15 Oct 2023) EndedAt: 2023-10-15 16:17:13 -0400 (Sun, 15 Oct 2023) EllapsedTime: 29.2 seconds RetCode: 0 Status: OK