Package: SPOTlight Version: 1.4.1 Command: F:\biocbuild\bbs-3.17-bioc\R\bin\R.exe CMD check --no-multiarch --install=check:SPOTlight.install-out.txt --library=F:\biocbuild\bbs-3.17-bioc\R\library --no-vignettes --timings SPOTlight_1.4.1.tar.gz StartedAt: 2023-10-16 07:16:06 -0400 (Mon, 16 Oct 2023) EndedAt: 2023-10-16 07:21:33 -0400 (Mon, 16 Oct 2023) EllapsedTime: 326.9 seconds RetCode: 0 Status: OK CheckDir: SPOTlight.Rcheck Warnings: 0