Package: SPOTlight Version: 1.4.1 Command: /Library/Frameworks/R.framework/Resources/bin/R CMD INSTALL SPOTlight StartedAt: 2023-10-15 15:27:51 -0400 (Sun, 15 Oct 2023) EndedAt: 2023-10-15 15:29:07 -0400 (Sun, 15 Oct 2023) EllapsedTime: 76.8 seconds RetCode: 0 Status: OK