Package: SPOTlight Version: 1.4.1 Command: /Library/Frameworks/R.framework/Resources/bin/R CMD check --install=check:SPOTlight.install-out.txt --library=/Library/Frameworks/R.framework/Resources/library --no-vignettes --timings SPOTlight_1.4.1.tar.gz StartedAt: 2023-10-16 07:36:01 -0400 (Mon, 16 Oct 2023) EndedAt: 2023-10-16 07:48:33 -0400 (Mon, 16 Oct 2023) EllapsedTime: 752.5 seconds RetCode: 0 Status: OK CheckDir: SPOTlight.Rcheck Warnings: 0