Package: SPOTlight Version: 1.4.1 Command: /Library/Frameworks/R.framework/Resources/bin/R CMD build --keep-empty-dirs --no-resave-data SPOTlight StartedAt: 2023-10-15 21:38:16 -0400 (Sun, 15 Oct 2023) EndedAt: 2023-10-15 21:45:31 -0400 (Sun, 15 Oct 2023) EllapsedTime: 434.4 seconds RetCode: 0 Status: OK PackageFile: SPOTlight_1.4.1.tar.gz PackageFileSize: 3.72 MiB